BEGIN:VCALENDAR
VERSION:2.0
PRODID:-//Impact Church - ECPv6.15.20//NONSGML v1.0//EN
CALSCALE:GREGORIAN
METHOD:PUBLISH
X-ORIGINAL-URL:https://goimpactva.com
X-WR-CALDESC:Events for Impact Church
REFRESH-INTERVAL;VALUE=DURATION:PT1H
X-Robots-Tag:noindex
X-PUBLISHED-TTL:PT1H
BEGIN:VTIMEZONE
TZID:America/New_York
BEGIN:DAYLIGHT
TZOFFSETFROM:-0500
TZOFFSETTO:-0400
TZNAME:EDT
DTSTART:20250309T070000
END:DAYLIGHT
BEGIN:STANDARD
TZOFFSETFROM:-0400
TZOFFSETTO:-0500
TZNAME:EST
DTSTART:20251102T060000
END:STANDARD
BEGIN:DAYLIGHT
TZOFFSETFROM:-0500
TZOFFSETTO:-0400
TZNAME:EDT
DTSTART:20260308T070000
END:DAYLIGHT
BEGIN:STANDARD
TZOFFSETFROM:-0400
TZOFFSETTO:-0500
TZNAME:EST
DTSTART:20261101T060000
END:STANDARD
BEGIN:DAYLIGHT
TZOFFSETFROM:-0500
TZOFFSETTO:-0400
TZNAME:EDT
DTSTART:20270314T070000
END:DAYLIGHT
BEGIN:STANDARD
TZOFFSETFROM:-0400
TZOFFSETTO:-0500
TZNAME:EST
DTSTART:20271107T060000
END:STANDARD
END:VTIMEZONE
BEGIN:VEVENT
DTSTART;TZID=America/New_York:20260221T090000
DTEND;TZID=America/New_York:20260221T090000
DTSTAMP:20260422T170634
CREATED:20260206T224004Z
LAST-MODIFIED:20260206T224004Z
UID:25200-1771664400-1771664400@goimpactva.com
SUMMARY:Starting Point
DESCRIPTION:New Members and Believers Class
URL:https://goimpactva.com/event/starting-point-3/
END:VEVENT
BEGIN:VEVENT
DTSTART;TZID=America/New_York:20260221T100000
DTEND;TZID=America/New_York:20260221T100000
DTSTAMP:20260422T170634
CREATED:20260206T223626Z
LAST-MODIFIED:20260206T223626Z
UID:25196-1771668000-1771668000@goimpactva.com
SUMMARY:United Sistahs Life Group: Breakfast Bibles
DESCRIPTION:
URL:https://goimpactva.com/event/united-sistahs-life-group-breakfast-bibles/
LOCATION:Village Inn\, 6116 College Dr\, Suffolk\, VA\, 23435\, United States
END:VEVENT
END:VCALENDAR